BEGIN:VCALENDAR
VERSION:2.0
PRODID:-//EPSI - ECPv6.15.20//NONSGML v1.0//EN
CALSCALE:GREGORIAN
METHOD:PUBLISH
X-ORIGINAL-URL:https://www.epsi.eu
X-WR-CALDESC:Events for EPSI
REFRESH-INTERVAL;VALUE=DURATION:PT1H
X-Robots-Tag:noindex
X-PUBLISHED-TTL:PT1H
BEGIN:VTIMEZONE
TZID:UTC
BEGIN:STANDARD
TZOFFSETFROM:+0000
TZOFFSETTO:+0000
TZNAME:UTC
DTSTART:20140101T000000
END:STANDARD
END:VTIMEZONE
BEGIN:VEVENT
DTSTART;VALUE=DATE:20150608
DTEND;VALUE=DATE:20150610
DTSTAMP:20260419T133333
CREATED:20150701T004637Z
LAST-MODIFIED:20250311T101828Z
UID:1838-1433721600-1433894399@www.epsi.eu
SUMMARY:EPSI Conference 2015
DESCRIPTION:On June 8 and 9th 2015 the European Platform for Sports Innovation (EPSI) organised in cooperation with the Catalan Sports Cluster (INDESCAT) and the European project EASY-IMP the 4th EPSI Conference in Barcelona. \nThe inspiring program and presentations around “Sports Innovation in the City” in combination with a motivated professional audience created the right atmosphere for discussing innovation chances and for creating new cooperations. On behalf of the European Platform for Sports Innovation (EPSI)\, the Catalan Sports Cluster (INDESCAT)\, the City Council of Barcelona and the European project EASY-IMP\, we thank all of the participants and speakers for their excellent contribution. We hope to see you next year in Eindhoven for the 5th EPSI conference.
URL:https://www.epsi.eu/event/epsi-conference-2015/
LOCATION:Catalan Sports Cluster
CATEGORIES:Past Editions
ATTACH;FMTTYPE=image/webp:https://www.epsi.eu/wp-content/uploads/2025/02/P6081153-v2.webp
END:VEVENT
END:VCALENDAR