BEGIN:VCALENDAR
VERSION:2.0
PRODID:-//EPSI - ECPv6.15.20//NONSGML v1.0//EN
CALSCALE:GREGORIAN
METHOD:PUBLISH
X-WR-CALNAME:EPSI
X-ORIGINAL-URL:https://www.epsi.eu
X-WR-CALDESC:Events for EPSI
REFRESH-INTERVAL;VALUE=DURATION:PT1H
X-Robots-Tag:noindex
X-PUBLISHED-TTL:PT1H
BEGIN:VTIMEZONE
TZID:Europe/Paris
BEGIN:DAYLIGHT
TZOFFSETFROM:+0100
TZOFFSETTO:+0200
TZNAME:CEST
DTSTART:20240331T010000
END:DAYLIGHT
BEGIN:STANDARD
TZOFFSETFROM:+0200
TZOFFSETTO:+0100
TZNAME:CET
DTSTART:20241027T010000
END:STANDARD
BEGIN:DAYLIGHT
TZOFFSETFROM:+0100
TZOFFSETTO:+0200
TZNAME:CEST
DTSTART:20250330T010000
END:DAYLIGHT
BEGIN:STANDARD
TZOFFSETFROM:+0200
TZOFFSETTO:+0100
TZNAME:CET
DTSTART:20251026T010000
END:STANDARD
BEGIN:DAYLIGHT
TZOFFSETFROM:+0100
TZOFFSETTO:+0200
TZNAME:CEST
DTSTART:20260329T010000
END:DAYLIGHT
BEGIN:STANDARD
TZOFFSETFROM:+0200
TZOFFSETTO:+0100
TZNAME:CET
DTSTART:20261025T010000
END:STANDARD
END:VTIMEZONE
BEGIN:VTIMEZONE
TZID:UTC
BEGIN:STANDARD
TZOFFSETFROM:+0000
TZOFFSETTO:+0000
TZNAME:UTC
DTSTART:20250101T000000
END:STANDARD
END:VTIMEZONE
BEGIN:VEVENT
DTSTART;TZID=Europe/Paris:20251114T090000
DTEND;TZID=Europe/Paris:20251114T100000
DTSTAMP:20260421T235412
CREATED:20251020T175013Z
LAST-MODIFIED:20251106T113429Z
UID:4871-1763110800-1763114400@www.epsi.eu
SUMMARY:From Europe to the World. New Business Frontiers with EPSI & HiG Sports
DESCRIPTION:The European Platform for Sport Innovation (EPSI) and HiG Sports (a Mumbai-based B2B consulting agency that specializes in sports\, fitness\, media\, and leisure innovations\, you can see their portfolio here) invite members and partners to an exclusive webinar marking the launch of their collaboration. This session will explore business opportunities connecting the European and Indian sports ecosystems and fostering cross-border partnerships\, including a special visiting program in India. \n  \n📌  Agenda\n\nWelcome & Introduction – EPSI and HiG Sports representatives \n\n\nPartnership Presentation – Benefits\, objectives\, and ecosystem overview \n\n\nSelected Pitch Sessions from European and Indian members.  \n\n\nDiscover India Program (Powered by HiG Sports): 16-19 Feb 2026\n\n\nQ&A and Open Discussion – Exploring next steps and collaboration opportunities \n\n  \n✈️  About the Discover India Program (Powered by HiG Sports): 16-19 Feb 2026\nHosted by HiG Sports\, this four-day visit offers a unique immersion into India’s dynamic and evolving sports ecosystem. Participants will engage in strategic discussions\, connect with broadcasters\, sport teams\, leagues\, federations\, government\, conglomerates\, sports tech companies\, investors\, and other relevant stakeholders. \nA 4-day business immersion in India’s sports ecosystem: \n\nTravel to Mumbai (16-17 Feb) and Bangalore (18-19 Feb)\nSite visits to professional sports organisations like the Mumbai Indians\, Knightriders\, Pro Kabaddi League\, Reliance Centre for Sports Medicine\, BCCI Centre of Excellence\nB2B Meetings with government officials\, broadcasters\, conglomerates\, sports tech firms – E.g. JioStar\, Fancode\, JSW Sports\, Tata Sons\, SportVot\, Sportz Interactive\nOpportunities to pitch your solutions to key buyers\, influencers and investors\nAttendance at the Sports Innovation and Tech Summit\, Bangalore\nAttendance at a Sporting Event (subject to availability)\nA tailored package of pre- and post-event awareness sessions\nInformal breakfast/cocktail chats with key thought leaders\, trade bodies\n\n\n🔎  Why INDIA?\nBeing the fastest growing economy in the world\, with over 1.4 billion people (majority of which are Gen Z’s)\, India offers a massive audience and talent pool. This is evident in India’s consumption patterns in sports (particularly digital content) and the growing participation in sports activities. The Indian sports industry is currently valued at USD 19 billion (FY24–25).It is projected to grow at a CAGR of 12–14 percent\, crossing USD 40 billion . While cricket maintains its stronghold\, 90% of 650+ mn Indian sports fans now follow multiple sports .The popularity of sports leagues in Kabaddi\, Field Hockey\, Volleyball\, Table Tennis\, European Football\, NBA further underscores this trend. This landscape presents ripe opportunities for relevant companies and stakeholders to enhance fan experience\, player performance\, youth development\, community empowerment\, and infrastructure.
URL:https://www.epsi.eu/event/from-europe-to-the-world-new-business-frontiers-with-epsi-hig-sports/
LOCATION:online
CATEGORIES:Events
ATTACH;FMTTYPE=image/png:https://www.epsi.eu/wp-content/uploads/2025/10/EPSi-HIG-Sports-14-Nov-3.png
ORGANIZER;CN="HIG Sports":MAILTO:info@higsports.in
END:VEVENT
BEGIN:VEVENT
DTSTART;TZID=UTC:20260410T113000
DTEND;TZID=UTC:20260410T123000
DTSTAMP:20260421T235412
CREATED:20260403T153210Z
LAST-MODIFIED:20260421T074830Z
UID:5377-1775820600-1775824200@www.epsi.eu
SUMMARY:EPSI & ACES | Crowdfunding and Match-funding
DESCRIPTION:ENGLISH SESSION 🇬🇧 \nThe session aims to helps public authorities learn how to use crowdfunding and match-funding alongside traditional public financing to support local sports projects. It offers a concise\, practical format with frameworks\, models\, and real examples that municipalities can adapt to mobilise resources\, involve citizens\, and boost the impact of their initiatives. \nAgenda\n11.30-11.35 | Welcome\nEPSI and ACES Representatives \n11.35 – 11.50 | Introduction to Crowdfunding \n– Definition\, actors and types\n– Value for the public sector \n11.50 – 12.10 | Introduction to Match-Funding and Match-Funding Models \n– What it is and how it differs from crowdfunding\n– Types (public\, private\, hybrid)\n– Role of public authorities \n– First-in\, Bridging\, Top-up\, 1:1\n– Implementation logic \n12.10 – 12.20 | Case Studies \n– European examples\n– Success factors 12.30 | Closing and Follow-up indications \n– Key takeaways and follow-up services for public authorities\n– How to get in touch with EPSI for follow-up support \n  \nWe look forward to seeing you there! 🚀
URL:https://www.epsi.eu/event/epsi-aces-crowdfunding-and-match-funding/
LOCATION:online
CATEGORIES:Events
ATTACH;FMTTYPE=image/png:https://www.epsi.eu/wp-content/uploads/2026/04/EPSI-ACES-10-April.png
END:VEVENT
BEGIN:VEVENT
DTSTART;TZID=UTC:20260422T090000
DTEND;TZID=UTC:20260422T223000
DTSTAMP:20260421T235412
CREATED:20260403T154305Z
LAST-MODIFIED:20260421T073851Z
UID:5384-1776848400-1776897000@www.epsi.eu
SUMMARY:EPSI & ABSG | Introduction to Crowdfunding
DESCRIPTION:This webinar introduces the fundamentals of crowdfunding\, helping you understand the main models\, who it’s for\, and what makes a campaign successful. \n\nWelcome from ABSG and EPSI (10 minutes)\nKeynote speaker – Investment partner (Omar El Zayat – EPSI Strategic Advisor) (15 minutes)\nIntro to crowdfunding (definitions + market size in EU) (5 mins)\n\nCrowdfunding models and features (15 mins)\nType of beneficiaries and target groups (15 mins)\nImportant elements in a crowdfunding campaign (10 Mins)\nOverview of best practices for crowdfunding in sports (10 Mins)\nQ&A (10 mins)\n\nWe look forward to seeing you there 🚀
URL:https://www.epsi.eu/event/epsi-absg-introduction-to-crowdfunding/
LOCATION:online
CATEGORIES:Events
ATTACH;FMTTYPE=image/png:https://www.epsi.eu/wp-content/uploads/2026/04/EPSI-ABSG-22-April.png
END:VEVENT
BEGIN:VEVENT
DTSTART;TZID=UTC:20260511T120000
DTEND;TZID=UTC:20260511T130000
DTSTAMP:20260421T235412
CREATED:20260403T155844Z
LAST-MODIFIED:20260421T075301Z
UID:5388-1778500800-1778504400@www.epsi.eu
SUMMARY:EPSI & ISCA | EU Advocacy in Sport Policy\, Practice\, and Influence
DESCRIPTION:This joint webinar by the European Platform for Sport Innovation and International Sport and Culture Association explores how the sport sector can influence EU decision-making. From an overview of EU sport policy to a practical case on MFF advocacy\, the session combines theory and real examples. Insights from European Aquatics will complete the discussion with hands-on experience in engaging with EU institutions. \nAgenda\n12.00 Welcome & Introduction \n\nJoint introduction by ISCA & EPSI representatives\n\n12.05 – 12.15 Introduction to EU Sport Policy– Laura-Maria Lehiste (ISCA) \n\nHistorical evolution of EU involvement in sport (EPSI)\nInstitutional framework\nCurrent policy priorities\nKey upcoming milestones\, trends\, and policy windows\n\n12.15 – 12.30 Advocacy in Practice: The MFF Case – Laura-Maria Lehiste (ISCA) \n\nOverview of the Multiannual Financial Framework (MFF)\nHow sport stakeholders influence EU budget priorities\nConcrete advocacy actions taken by the sector\n\n12.30 – 12.40 External Perspective – António Silva (European Aquatics) \n\nThe role of advocacy in ensuring recognition and support for aquatic sports at European level\nThe engagement with EU institutions and policy processes for EA\nConcrete examples or experiences\n\n12.40 – 12.50 Q&A and Conclusions \n\nEncourage sharing of experiences across ISCA and EPSI networks\nKey takeaways\nClosing remarks from organisers\n\nWe look forward to seeing you there 🚀
URL:https://www.epsi.eu/event/epsi-isca-eu-advocacy-in-sport-policy-practice-and-influence/
LOCATION:online
CATEGORIES:Events
ATTACH;FMTTYPE=image/png:https://www.epsi.eu/wp-content/uploads/2026/04/EPSI-ISCA-11-MAy-2026.png
END:VEVENT
BEGIN:VEVENT
DTSTART;VALUE=DATE:20260923
DTEND;VALUE=DATE:20260926
DTSTAMP:20260421T235412
CREATED:20260226T160903Z
LAST-MODIFIED:20260226T163051Z
UID:5275-1790121600-1790380799@www.epsi.eu
SUMMARY:EPSI Annual Conference 2026
DESCRIPTION:Where sport innovation meets funding\, partnerships and impact\nWe work for a more sustainable future of sport in Europe\, turning funding into real action and collaboration into measurable impact \nJoin the flagship event of the European Platform for Sport Innovation. Fundraisers\, sport organisations\, companies\, institutions and investors20+ sessions\, pitches and matchmaking moments in 3 days of full immersion in the sport ecosystem. A unique format combining knowledge exchange\, business opportunities and community celebration! \nIf you believe that sport can drive innovation\, sustainability and growth across Europe this is your place.
URL:https://www.epsi.eu/event/epsi-annual-conference-2026/
LOCATION:Peace & Friendship Stadium\, Piraeus\, Greece
CATEGORIES:AC
ATTACH;FMTTYPE=image/png:https://www.epsi.eu/wp-content/uploads/2026/02/Banner_AC2025.png
ORGANIZER;CN="Peace & Friendship Stadium":MAILTO:https://sef-stadium.gr/en/
END:VEVENT
END:VCALENDAR